BEGIN:VCALENDAR
VERSION:2.0
PRODID:-//femmes en emploi - ECPv6.15.20//NONSGML v1.0//EN
CALSCALE:GREGORIAN
METHOD:PUBLISH
X-ORIGINAL-URL:https://femmesenemploi.org
X-WR-CALDESC:Évènements pour femmes en emploi
REFRESH-INTERVAL;VALUE=DURATION:PT1H
X-Robots-Tag:noindex
X-PUBLISHED-TTL:PT1H
BEGIN:VTIMEZONE
TZID:America/New_York
BEGIN:DAYLIGHT
TZOFFSETFROM:-0500
TZOFFSETTO:-0400
TZNAME:EDT
DTSTART:20230312T070000
END:DAYLIGHT
BEGIN:STANDARD
TZOFFSETFROM:-0400
TZOFFSETTO:-0500
TZNAME:EST
DTSTART:20231105T060000
END:STANDARD
BEGIN:DAYLIGHT
TZOFFSETFROM:-0500
TZOFFSETTO:-0400
TZNAME:EDT
DTSTART:20240310T070000
END:DAYLIGHT
BEGIN:STANDARD
TZOFFSETFROM:-0400
TZOFFSETTO:-0500
TZNAME:EST
DTSTART:20241103T060000
END:STANDARD
BEGIN:DAYLIGHT
TZOFFSETFROM:-0500
TZOFFSETTO:-0400
TZNAME:EDT
DTSTART:20250309T070000
END:DAYLIGHT
BEGIN:STANDARD
TZOFFSETFROM:-0400
TZOFFSETTO:-0500
TZNAME:EST
DTSTART:20251102T060000
END:STANDARD
END:VTIMEZONE
BEGIN:VEVENT
DTSTART;TZID=America/New_York:20240510T100000
DTEND;TZID=America/New_York:20240510T120000
DTSTAMP:20260424T215524
CREATED:20240503T035652Z
LAST-MODIFIED:20240503T035652Z
UID:4356-1715335200-1715342400@femmesenemploi.org
SUMMARY:Mes Finances Autrement
DESCRIPTION:Un atelier pour revoir ses finances personnelles et acquérir de bonnes habitudes. \nThématiques qui seront abordés: \n·       Découvrir et comprendre sa relation avec l’argent \n·       Gérer son budget pour plus de sérénité \n·       Établir des objectifs financiers SMART \n·       Analyser quelques astuces pour rester discipliner \nCet atelier se donne dans le cadre de la réalisation du projet Laval mobilisée pour l’intégration et le maintien en emploi des femmes immigrantes et racisées (IMEFIR)\, avec la participation financière des alliances pour la solidarité\, le ministère de l’emploi et de la solidarité et la ville de Laval. \n  \n 
URL:https://femmesenemploi.org/calendrier/mes-finances-autrement/
LOCATION:Dimension Travail\, 1717 Boulevard Saint-Martin O\, \, QC\, Laval\, Québec\, H7S 1N2\, Canada
CATEGORIES:Activité
ATTACH;FMTTYPE=image/jpeg:https://femmesenemploi.org/wp-content/uploads/2024/05/Piggy_bank.jpg
ORGANIZER;CN="Femmes en Emploi":MAILTO:info@femmesenemploi.org
END:VEVENT
BEGIN:VEVENT
DTSTART;TZID=America/New_York:20240516T180000
DTEND;TZID=America/New_York:20240516T191500
DTSTAMP:20260424T215524
CREATED:20240512T212612Z
LAST-MODIFIED:20240512T212612Z
UID:4382-1715882400-1715886900@femmesenemploi.org
SUMMARY:Vide-Frigo
DESCRIPTION:Cet atelier vous offrira des astuces simples pour maximiser la durée de vie de vos aliments\, des stratégies pour planifier vos achats et une tonne d’idées de recettes nutritives pour redonner vie à vos restes. Le temps des légumes qui pourrissent au fond du frigo est révolu! \nVous en ressortirez avec une vision simple de la saine alimentation et des trucs concrets à intégrer à votre quotidien. \nCette activité se déroule dans le cadre du projet Égalité enracinée à Laval avec la participation financière de la Ville de Laval. \n \n 
URL:https://femmesenemploi.org/calendrier/vide-frigo/
LOCATION:Femmes en Emploi\, 1688 boul des Laurentides\, Bureau 103\, Laval\, Québec\, H7M 2P4\, Canada
CATEGORIES:Activité
ATTACH;FMTTYPE=image/jpeg:https://femmesenemploi.org/wp-content/uploads/2024/05/vide-frigo.jpg
ORGANIZER;CN="Femmes en Emploi":MAILTO:info@femmesenemploi.org
END:VEVENT
BEGIN:VEVENT
DTSTART;TZID=America/New_York:20240528T120000
DTEND;TZID=America/New_York:20240528T130000
DTSTAMP:20260424T215524
CREATED:20240528T024320Z
LAST-MODIFIED:20240528T024320Z
UID:4395-1716897600-1716901200@femmesenemploi.org
SUMMARY:L'inclusion et la diversité en milieu professionnel
DESCRIPTION:Participez à un webinaire enrichissant où les conférencières Bérénice St-Martin et Chaymae Chraibi aborderont les enjeux cruciaux de l’inclusion et de la diversité sur le lieu de travail. \nElles mettront en lumière : \n\nLes avantages et les défis de la diversité en milieu professionnel\nComment sensibiliser et inspirer les équipes à adopter des pratiques inclusives au quotidien\nUne séance de questions-réponses pour approfondir les discussions\n\nCet atelier s’inscrit dans le cadre du projet « Laval mobilisée pour l’intégration et le maintien en emploi des femmes immigrantes et racisées (IMEFIR) »\, avec le soutien financier des Alliances pour la solidarité\, du ministère de l’Emploi et de la Solidarité sociale\, et de la ville de Laval. \n 
URL:https://femmesenemploi.org/calendrier/linclusion-et-la-diversite-en-milieu-professionnel/
LOCATION:Salle Virtuelle
CATEGORIES:Activité
ATTACH;FMTTYPE=image/jpeg:https://femmesenemploi.org/wp-content/uploads/2024/05/inclu-diver.jpg
ORGANIZER;CN="Femmes en Emploi":MAILTO:info@femmesenemploi.org
END:VEVENT
END:VCALENDAR