BEGIN:VCALENDAR
VERSION:2.0
PRODID:-//femmes en emploi - ECPv6.15.20//NONSGML v1.0//EN
CALSCALE:GREGORIAN
METHOD:PUBLISH
X-ORIGINAL-URL:https://femmesenemploi.org
X-WR-CALDESC:Évènements pour femmes en emploi
REFRESH-INTERVAL;VALUE=DURATION:PT1H
X-Robots-Tag:noindex
X-PUBLISHED-TTL:PT1H
BEGIN:VTIMEZONE
TZID:America/New_York
BEGIN:DAYLIGHT
TZOFFSETFROM:-0500
TZOFFSETTO:-0400
TZNAME:EDT
DTSTART:20230312T070000
END:DAYLIGHT
BEGIN:STANDARD
TZOFFSETFROM:-0400
TZOFFSETTO:-0500
TZNAME:EST
DTSTART:20231105T060000
END:STANDARD
BEGIN:DAYLIGHT
TZOFFSETFROM:-0500
TZOFFSETTO:-0400
TZNAME:EDT
DTSTART:20240310T070000
END:DAYLIGHT
BEGIN:STANDARD
TZOFFSETFROM:-0400
TZOFFSETTO:-0500
TZNAME:EST
DTSTART:20241103T060000
END:STANDARD
BEGIN:DAYLIGHT
TZOFFSETFROM:-0500
TZOFFSETTO:-0400
TZNAME:EDT
DTSTART:20250309T070000
END:DAYLIGHT
BEGIN:STANDARD
TZOFFSETFROM:-0400
TZOFFSETTO:-0500
TZNAME:EST
DTSTART:20251102T060000
END:STANDARD
END:VTIMEZONE
BEGIN:VEVENT
DTSTART;TZID=America/New_York:20241212T100000
DTEND;TZID=America/New_York:20241212T120000
DTSTAMP:20260424T111501
CREATED:20241204T013333Z
LAST-MODIFIED:20241204T013333Z
UID:4512-1733997600-1734004800@femmesenemploi.org
SUMMARY:Intégration Professionnelle des noirs au Québec
DESCRIPTION:L’intégration professionnelle des immigrants des communautés noires au Québec représente une réalité complexe\, caractérisée par des défis importants\, mais aussi par des opportunités encourageantes. Cet atelier a pour objectif de vous faire découvrir les enjeux auxquels ces populations sont confrontées\, tout en explorant les leviers et les stratégies qui peuvent faciliter leur inclusion socio-économique. \nCette activité se déroule dans le cadre du projet « Unité Plurielle : Ensemble vers un avenir où le racisme n’a pas sa place» \nElle est rendue possible grâce au soutien financier  de la Fondation Canadienne des Relations Raciales. \n 
URL:https://femmesenemploi.org/calendrier/integration-professionnelle-des-noirs-au-quebec/
LOCATION:Femmes en Emploi\, 1688 boul des Laurentides\, Bureau 103\, Laval\, Québec\, H7M 2P4\, Canada
CATEGORIES:Activité
ATTACH;FMTTYPE=image/jpeg:https://femmesenemploi.org/wp-content/uploads/2024/12/pexels-mizunokozuki-12899115a.jpg
ORGANIZER;CN="Femmes en Emploi":MAILTO:info@femmesenemploi.org
END:VEVENT
BEGIN:VEVENT
DTSTART;TZID=America/New_York:20241216T130000
DTEND;TZID=America/New_York:20241216T143000
DTSTAMP:20260424T111501
CREATED:20241213T053835Z
LAST-MODIFIED:20241213T053835Z
UID:4536-1734354000-1734359400@femmesenemploi.org
SUMMARY:La réalité du milieu du travail
DESCRIPTION:La réalité du milieu du travail : Un Enjeu Interdisciplinaire\, Intergénérationnel et Interculturel\nCet atelier mettra  en lumière les défis et opportunités auxquels font face les organisations modernes. \nIl s’inscrit dans le cadre du projet « Laval mobilisée pour l’intégration et le maintien en emploi des femmes immigrantes et racisées (IMEFIR) »\, avec le soutien financier des Alliances pour la solidarité\, du ministère de l’Emploi et de la Solidarité sociale\, et de la ville de Laval.
URL:https://femmesenemploi.org/calendrier/la-realite-du-milieu-du-travail/
LOCATION:Femmes en Emploi\, 1688 boul des Laurentides\, Bureau 103\, Laval\, Québec\, H7M 2P4\, Canada
CATEGORIES:Activité
ATTACH;FMTTYPE=image/jpeg:https://femmesenemploi.org/wp-content/uploads/2024/12/pexels-rdne-7491153-copie.jpg
ORGANIZER;CN="Femmes en Emploi":MAILTO:info@femmesenemploi.org
END:VEVENT
END:VCALENDAR