BEGIN:VCALENDAR
VERSION:2.0
PRODID:-//femmes en emploi - ECPv6.15.20//NONSGML v1.0//EN
CALSCALE:GREGORIAN
METHOD:PUBLISH
X-ORIGINAL-URL:https://femmesenemploi.org
X-WR-CALDESC:Évènements pour femmes en emploi
REFRESH-INTERVAL;VALUE=DURATION:PT1H
X-Robots-Tag:noindex
X-PUBLISHED-TTL:PT1H
BEGIN:VTIMEZONE
TZID:America/New_York
BEGIN:DAYLIGHT
TZOFFSETFROM:-0500
TZOFFSETTO:-0400
TZNAME:EDT
DTSTART:20240310T070000
END:DAYLIGHT
BEGIN:STANDARD
TZOFFSETFROM:-0400
TZOFFSETTO:-0500
TZNAME:EST
DTSTART:20241103T060000
END:STANDARD
BEGIN:DAYLIGHT
TZOFFSETFROM:-0500
TZOFFSETTO:-0400
TZNAME:EDT
DTSTART:20250309T070000
END:DAYLIGHT
BEGIN:STANDARD
TZOFFSETFROM:-0400
TZOFFSETTO:-0500
TZNAME:EST
DTSTART:20251102T060000
END:STANDARD
BEGIN:DAYLIGHT
TZOFFSETFROM:-0500
TZOFFSETTO:-0400
TZNAME:EDT
DTSTART:20260308T070000
END:DAYLIGHT
BEGIN:STANDARD
TZOFFSETFROM:-0400
TZOFFSETTO:-0500
TZNAME:EST
DTSTART:20261101T060000
END:STANDARD
END:VTIMEZONE
BEGIN:VEVENT
DTSTART;TZID=America/New_York:20250912T100000
DTEND;TZID=America/New_York:20250912T120000
DTSTAMP:20260423T213302
CREATED:20250829T012009Z
LAST-MODIFIED:20250830T014937Z
UID:5033-1757671200-1757678400@femmesenemploi.org
SUMMARY:L'art de négocier son salaire
DESCRIPTION:Venez découvrir des stratégies concrètes pour négocier avec confiance et obtenir le juste salaire pour votre travail. \nAu programme : \n\n\nComprendre sa valeur sur le marché du travail \n\n\nPréparer et structurer sa négociation \n\n\nTechniques pour répondre aux objections \n\n\n\n\n\nCette activité se déroule dans le cadre du projet « Laval mobilisée pour l’intégration et le maintien en emploi des femmes immigrantes et racisées (IMEFIR)\, \n\n\n\nEn partenariat avec les Alliances pour la solidarité et le ministère de l’Emploi et de la Solidarité sociale\, la Ville de Laval. \nElle est aussi t rendue possible grâce au soutien de la Fondation du Grand Montréal.
URL:https://femmesenemploi.org/calendrier/lart-de-negocier-son-salaire-2/
LOCATION:Femmes en Emploi\, 1688 boul des Laurentides\, Bureau 103\, Laval\, Québec\, H7M 2P4\, Canada
CATEGORIES:Activité
ATTACH;FMTTYPE=image/jpeg:https://femmesenemploi.org/wp-content/uploads/2025/08/pexels-cytonn-955388-copy.jpg
ORGANIZER;CN="Femmes en Emploi":MAILTO:info@femmesenemploi.org
END:VEVENT
END:VCALENDAR