BEGIN:VCALENDAR
VERSION:2.0
PRODID:-//femmes en emploi - ECPv6.15.20//NONSGML v1.0//EN
CALSCALE:GREGORIAN
METHOD:PUBLISH
X-ORIGINAL-URL:https://femmesenemploi.org
X-WR-CALDESC:Évènements pour femmes en emploi
REFRESH-INTERVAL;VALUE=DURATION:PT1H
X-Robots-Tag:noindex
X-PUBLISHED-TTL:PT1H
BEGIN:VTIMEZONE
TZID:America/New_York
BEGIN:DAYLIGHT
TZOFFSETFROM:-0500
TZOFFSETTO:-0400
TZNAME:EDT
DTSTART:20220313T070000
END:DAYLIGHT
BEGIN:STANDARD
TZOFFSETFROM:-0400
TZOFFSETTO:-0500
TZNAME:EST
DTSTART:20221106T060000
END:STANDARD
BEGIN:DAYLIGHT
TZOFFSETFROM:-0500
TZOFFSETTO:-0400
TZNAME:EDT
DTSTART:20230312T070000
END:DAYLIGHT
BEGIN:STANDARD
TZOFFSETFROM:-0400
TZOFFSETTO:-0500
TZNAME:EST
DTSTART:20231105T060000
END:STANDARD
BEGIN:DAYLIGHT
TZOFFSETFROM:-0500
TZOFFSETTO:-0400
TZNAME:EDT
DTSTART:20240310T070000
END:DAYLIGHT
BEGIN:STANDARD
TZOFFSETFROM:-0400
TZOFFSETTO:-0500
TZNAME:EST
DTSTART:20241103T060000
END:STANDARD
END:VTIMEZONE
BEGIN:VEVENT
DTSTART;TZID=America/New_York:20230925T120000
DTEND;TZID=America/New_York:20230925T125000
DTSTAMP:20260425T105739
CREATED:20230918T033155Z
LAST-MODIFIED:20230918T034356Z
UID:3862-1695643200-1695646200@femmesenemploi.org
SUMMARY:DIPAA - École Georges-Vanier
DESCRIPTION:Activité de sensibilisation dans le cadre de la décennie internationale des personnes d’ascendance africaine avec le plasticien Omar Gammaoui. \nCe projet a pour objectif de mettre en lumière les apports et les influences des femmes et des hommes issus des communautés noires à la culture et au développement de la société  québécoise. \nSoutenu par le Ministère de l’Immigration\, de la Francisation et de l’Intégration.
URL:https://femmesenemploi.org/calendrier/3862/
LOCATION:Québec
CATEGORIES:Activité
ATTACH;FMTTYPE=image/jpeg:https://femmesenemploi.org/wp-content/uploads/2023/09/ST-Maxime.jpg
ORGANIZER;CN="%C3%89lan politique jeunesse":MAILTO:mobilisation@elanpolitiquejeunesse
END:VEVENT
END:VCALENDAR