BEGIN:VCALENDAR
VERSION:2.0
PRODID:-//femmes en emploi - ECPv6.15.20//NONSGML v1.0//EN
CALSCALE:GREGORIAN
METHOD:PUBLISH
X-ORIGINAL-URL:https://femmesenemploi.org
X-WR-CALDESC:Évènements pour femmes en emploi
REFRESH-INTERVAL;VALUE=DURATION:PT1H
X-Robots-Tag:noindex
X-PUBLISHED-TTL:PT1H
BEGIN:VTIMEZONE
TZID:America/New_York
BEGIN:DAYLIGHT
TZOFFSETFROM:-0500
TZOFFSETTO:-0400
TZNAME:EDT
DTSTART:20220313T070000
END:DAYLIGHT
BEGIN:STANDARD
TZOFFSETFROM:-0400
TZOFFSETTO:-0500
TZNAME:EST
DTSTART:20221106T060000
END:STANDARD
BEGIN:DAYLIGHT
TZOFFSETFROM:-0500
TZOFFSETTO:-0400
TZNAME:EDT
DTSTART:20230312T070000
END:DAYLIGHT
BEGIN:STANDARD
TZOFFSETFROM:-0400
TZOFFSETTO:-0500
TZNAME:EST
DTSTART:20231105T060000
END:STANDARD
BEGIN:DAYLIGHT
TZOFFSETFROM:-0500
TZOFFSETTO:-0400
TZNAME:EDT
DTSTART:20240310T070000
END:DAYLIGHT
BEGIN:STANDARD
TZOFFSETFROM:-0400
TZOFFSETTO:-0500
TZNAME:EST
DTSTART:20241103T060000
END:STANDARD
END:VTIMEZONE
BEGIN:VEVENT
DTSTART;TZID=America/New_York:20230927T113000
DTEND;TZID=America/New_York:20230927T130000
DTSTAMP:20260425T105738
CREATED:20230918T043348Z
LAST-MODIFIED:20230918T043348Z
UID:3871-1695814200-1695819600@femmesenemploi.org
SUMMARY:DIPAA - Collège Citoyen
DESCRIPTION:Exposition de l’oeuvre. \nActivité de sensibilisation dans le cadre de la décennie internationale des personnes d’ascendance africaine avec le plasticien Omar Gammaoui. \nCe projet a pour objectif de mettre en lumière les apports et les influences des femmes et des hommes issus des communautés noires à la culture et au développement de la société  québécoise. \nSoutenu par le Ministère de l’Immigration\, de la Francisation et de l’Intégration.
URL:https://femmesenemploi.org/calendrier/dipaa-college-citoyen/
LOCATION:Québec
CATEGORIES:Activité
ATTACH;FMTTYPE=image/jpeg:https://femmesenemploi.org/wp-content/uploads/2023/09/dipaa-avril-1.jpg
ORGANIZER;CN="%C3%89lan politique jeunesse":MAILTO:mobilisation@elanpolitiquejeunesse
END:VEVENT
BEGIN:VEVENT
DTSTART;TZID=America/New_York:20230927T180000
DTEND;TZID=America/New_York:20230927T193000
DTSTAMP:20260425T105738
CREATED:20230815T174445Z
LAST-MODIFIED:20230918T040748Z
UID:3846-1695837600-1695843000@femmesenemploi.org
SUMMARY:Marketing et Lecture d'Étiquette à l'épicerie
DESCRIPTION:C’est un atelier qui vous fournira des outils pour comprendre les stratégies marketing et démystifier les étiquettes des aliments. \nC’est le premier atelier d’une série qui sera réalisé en collaboration avec PROMO SANTÉ. Ce sera l’occasion de partager des expériences\, des conseils sur l’alimentation à faible coût et des opportunités de réseautage. \nCette activité se déroule dans le cadre du projet Égalité enracinée à Laval avec la participation financière de la Ville de Laval. \n  \n 
URL:https://femmesenemploi.org/calendrier/marketing-et-lecture-detiquette-a-lepicerie/
LOCATION:Femmes en Emploi\, 1688 boul des Laurentides\, Bureau 103\, Laval\, Québec\, H7M 2P4\, Canada
CATEGORIES:Activité
ATTACH;FMTTYPE=image/jpeg:https://femmesenemploi.org/wp-content/uploads/2023/08/posters-apple.jpg
ORGANIZER;CN="Promo Sant%C3%A9":MAILTO:info@gpslaval.com
END:VEVENT
END:VCALENDAR