BEGIN:VCALENDAR
VERSION:2.0
PRODID:-//femmes en emploi - ECPv6.15.20//NONSGML v1.0//EN
CALSCALE:GREGORIAN
METHOD:PUBLISH
X-WR-CALNAME:femmes en emploi
X-ORIGINAL-URL:https://femmesenemploi.org
X-WR-CALDESC:Évènements pour femmes en emploi
REFRESH-INTERVAL;VALUE=DURATION:PT1H
X-Robots-Tag:noindex
X-PUBLISHED-TTL:PT1H
BEGIN:VTIMEZONE
TZID:America/New_York
BEGIN:DAYLIGHT
TZOFFSETFROM:-0500
TZOFFSETTO:-0400
TZNAME:EDT
DTSTART:20230312T070000
END:DAYLIGHT
BEGIN:STANDARD
TZOFFSETFROM:-0400
TZOFFSETTO:-0500
TZNAME:EST
DTSTART:20231105T060000
END:STANDARD
BEGIN:DAYLIGHT
TZOFFSETFROM:-0500
TZOFFSETTO:-0400
TZNAME:EDT
DTSTART:20240310T070000
END:DAYLIGHT
BEGIN:STANDARD
TZOFFSETFROM:-0400
TZOFFSETTO:-0500
TZNAME:EST
DTSTART:20241103T060000
END:STANDARD
BEGIN:DAYLIGHT
TZOFFSETFROM:-0500
TZOFFSETTO:-0400
TZNAME:EDT
DTSTART:20250309T070000
END:DAYLIGHT
BEGIN:STANDARD
TZOFFSETFROM:-0400
TZOFFSETTO:-0500
TZNAME:EST
DTSTART:20251102T060000
END:STANDARD
END:VTIMEZONE
BEGIN:VEVENT
DTSTART;TZID=America/New_York:20240606T100000
DTEND;TZID=America/New_York:20240606T120000
DTSTAMP:20260424T215524
CREATED:20240530T023937Z
LAST-MODIFIED:20240717T012216Z
UID:4404-1717668000-1717675200@femmesenemploi.org
SUMMARY:La Charte Québécoise
DESCRIPTION:Participez à notre atelier sur la «Charte des droits et libertés de la personne» pour sensibiliser les femmes immigrantes et issues des minorités visibles et éloignées du marché du travail\, sur les recours et ressources disponibles pour une meilleure intégration et le maintien de ces dernières sur le marché de l’emploi. \n\nCette activité se déroule dans le cadre du projet « Laval mobilisée pour l’intégration et le maintien en emploi des femmes immigrantes et racisées (IMEFIR)\, \n\nEn partenariat avec les Alliances pour la solidarité et le ministère de l’Emploi et de la Solidarité sociale; La Ville de Laval. \n\n \n 
URL:https://femmesenemploi.org/calendrier/charte-des-droits-et-libertes-de-la-personne/
LOCATION:Dimension Travail\, 1717 Boulevard Saint-Martin O\, \, QC\, Laval\, Québec\, H7S 1N2\, Canada
CATEGORIES:Activité
ATTACH;FMTTYPE=image/jpeg:https://femmesenemploi.org/wp-content/uploads/2024/05/droit-perso.jpg
ORGANIZER;CN="Femmes en Emploi":MAILTO:info@femmesenemploi.org
END:VEVENT
END:VCALENDAR