BEGIN:VCALENDAR
VERSION:2.0
PRODID:-//femmes en emploi - ECPv6.15.20//NONSGML v1.0//EN
CALSCALE:GREGORIAN
METHOD:PUBLISH
X-ORIGINAL-URL:https://femmesenemploi.org
X-WR-CALDESC:Évènements pour femmes en emploi
REFRESH-INTERVAL;VALUE=DURATION:PT1H
X-Robots-Tag:noindex
X-PUBLISHED-TTL:PT1H
BEGIN:VTIMEZONE
TZID:America/New_York
BEGIN:DAYLIGHT
TZOFFSETFROM:-0500
TZOFFSETTO:-0400
TZNAME:EDT
DTSTART:20230312T070000
END:DAYLIGHT
BEGIN:STANDARD
TZOFFSETFROM:-0400
TZOFFSETTO:-0500
TZNAME:EST
DTSTART:20231105T060000
END:STANDARD
BEGIN:DAYLIGHT
TZOFFSETFROM:-0500
TZOFFSETTO:-0400
TZNAME:EDT
DTSTART:20240310T070000
END:DAYLIGHT
BEGIN:STANDARD
TZOFFSETFROM:-0400
TZOFFSETTO:-0500
TZNAME:EST
DTSTART:20241103T060000
END:STANDARD
BEGIN:DAYLIGHT
TZOFFSETFROM:-0500
TZOFFSETTO:-0400
TZNAME:EDT
DTSTART:20250309T070000
END:DAYLIGHT
BEGIN:STANDARD
TZOFFSETFROM:-0400
TZOFFSETTO:-0500
TZNAME:EST
DTSTART:20251102T060000
END:STANDARD
END:VTIMEZONE
BEGIN:VEVENT
DTSTART;TZID=America/New_York:20240912T100000
DTEND;TZID=America/New_York:20240912T120000
DTSTAMP:20260424T165853
CREATED:20240831T201618Z
LAST-MODIFIED:20240831T202948Z
UID:4444-1726135200-1726142400@femmesenemploi.org
SUMMARY:Les Métiers traditionnellement masculins
DESCRIPTION:Participez à notre atelier sur les métiers traditionnellement masculins pour briser les stéréotypes et les genres associés à certains métiers ou certaines professions de manière à favoriser l’égalité entre les hommes et les femmes en milieu de travail. \nDans le cadre de la réalisation du projet Laval mobilisée pour l’intégration et le maintien en emploi des femmes immigrantes et racisées (IMEFIR)\, avec la participation financière des alliances pour la solidarité\, le ministère de l’emploi et de la solidarité et la ville de Laval. \n 
URL:https://femmesenemploi.org/calendrier/les-metiers-traditionnellement-masculins/
LOCATION:Dimension Travail\, 1717 Boulevard Saint-Martin O\, \, QC\, Laval\, Québec\, H7S 1N2\, Canada
CATEGORIES:Activité
ATTACH;FMTTYPE=image/jpeg:https://femmesenemploi.org/wp-content/uploads/2024/08/metier-nontraditionnel.jpg
ORGANIZER;CN="Femmes en Emploi":MAILTO:info@femmesenemploi.org
END:VEVENT
END:VCALENDAR