BEGIN:VCALENDAR
VERSION:2.0
PRODID:-//femmes en emploi - ECPv6.15.20//NONSGML v1.0//EN
CALSCALE:GREGORIAN
METHOD:PUBLISH
X-ORIGINAL-URL:https://femmesenemploi.org
X-WR-CALDESC:Évènements pour femmes en emploi
REFRESH-INTERVAL;VALUE=DURATION:PT1H
X-Robots-Tag:noindex
X-PUBLISHED-TTL:PT1H
BEGIN:VTIMEZONE
TZID:America/New_York
BEGIN:DAYLIGHT
TZOFFSETFROM:-0500
TZOFFSETTO:-0400
TZNAME:EDT
DTSTART:20230312T070000
END:DAYLIGHT
BEGIN:STANDARD
TZOFFSETFROM:-0400
TZOFFSETTO:-0500
TZNAME:EST
DTSTART:20231105T060000
END:STANDARD
BEGIN:DAYLIGHT
TZOFFSETFROM:-0500
TZOFFSETTO:-0400
TZNAME:EDT
DTSTART:20240310T070000
END:DAYLIGHT
BEGIN:STANDARD
TZOFFSETFROM:-0400
TZOFFSETTO:-0500
TZNAME:EST
DTSTART:20241103T060000
END:STANDARD
BEGIN:DAYLIGHT
TZOFFSETFROM:-0500
TZOFFSETTO:-0400
TZNAME:EDT
DTSTART:20250309T070000
END:DAYLIGHT
BEGIN:STANDARD
TZOFFSETFROM:-0400
TZOFFSETTO:-0500
TZNAME:EST
DTSTART:20251102T060000
END:STANDARD
END:VTIMEZONE
BEGIN:VEVENT
DTSTART;TZID=America/New_York:20240919T123500
DTEND;TZID=America/New_York:20240919T133500
DTSTAMP:20260424T165833
CREATED:20240911T233821Z
LAST-MODIFIED:20240911T233821Z
UID:4456-1726749300-1726752900@femmesenemploi.org
SUMMARY:DIPAA - École Secondaire Leblanc
DESCRIPTION:Exposition de l’oeuvre. \nActivité de sensibilisation dans le cadre de la décennie internationale des personnes d’ascendance africaine avec le plasticien Omar Gammaoui. \nCe projet a pour objectif de mettre en lumière les apports et les influences des femmes et des hommes issus des communautés noires à la culture et au développement de la société  québécoise. \nCette activité est soutenu par le Ministère de l’Immigration\, de la Francisation et de l’Intégration et de la Fondation canadienne des relations raciales.
URL:https://femmesenemploi.org/calendrier/dipaa-ecole-secondaire-leblanc/
LOCATION:École secondaire Leblanc\, 1750 Mnt Masson\, Laval\, QC\, H7C 0K4\, Canada
CATEGORIES:Activité
ATTACH;FMTTYPE=image/jpeg:https://femmesenemploi.org/wp-content/uploads/2024/09/image-expo-copie.jpg
ORGANIZER;CN="%C3%89lan politique jeunesse":MAILTO:mobilisation@elanpolitiquejeunesse
END:VEVENT
END:VCALENDAR