BEGIN:VCALENDAR
VERSION:2.0
PRODID:-//femmes en emploi - ECPv6.15.17.1//NONSGML v1.0//EN
CALSCALE:GREGORIAN
METHOD:PUBLISH
X-ORIGINAL-URL:https://femmesenemploi.org
X-WR-CALDESC:Évènements pour femmes en emploi
REFRESH-INTERVAL;VALUE=DURATION:PT1H
X-Robots-Tag:noindex
X-PUBLISHED-TTL:PT1H
BEGIN:VTIMEZONE
TZID:America/New_York
BEGIN:DAYLIGHT
TZOFFSETFROM:-0500
TZOFFSETTO:-0400
TZNAME:EDT
DTSTART:20250309T070000
END:DAYLIGHT
BEGIN:STANDARD
TZOFFSETFROM:-0400
TZOFFSETTO:-0500
TZNAME:EST
DTSTART:20251102T060000
END:STANDARD
BEGIN:DAYLIGHT
TZOFFSETFROM:-0500
TZOFFSETTO:-0400
TZNAME:EDT
DTSTART:20260308T070000
END:DAYLIGHT
BEGIN:STANDARD
TZOFFSETFROM:-0400
TZOFFSETTO:-0500
TZNAME:EST
DTSTART:20261101T060000
END:STANDARD
BEGIN:DAYLIGHT
TZOFFSETFROM:-0500
TZOFFSETTO:-0400
TZNAME:EDT
DTSTART:20270314T070000
END:DAYLIGHT
BEGIN:STANDARD
TZOFFSETFROM:-0400
TZOFFSETTO:-0500
TZNAME:EST
DTSTART:20271107T060000
END:STANDARD
END:VTIMEZONE
BEGIN:VEVENT
DTSTART;TZID=America/New_York:20260121T100000
DTEND;TZID=America/New_York:20260121T120000
DTSTAMP:20260423T114855
CREATED:20260121T170748Z
LAST-MODIFIED:20260121T214544Z
UID:5116-1768989600-1768996800@femmesenemploi.org
SUMMARY:Séance d'informations avec le PRAIDA pour les personnes en demande d'asile
DESCRIPTION:  \n\n\n\nC’est une séance ou seront expliqués leur rôle; offrir un soutien à l’intégration afin de faciliter l’établissement des demandeurs d’asile dans le respect de leurs droits et de leur dignité. Durant cette séance les participants seront informés aussi sur les ressources disponibles et orienté vers les services adaptés à leurs besoins.
URL:https://femmesenemploi.org/calendrier/seance-dinformations-avec-le-praida-pour-les-personnes-en-demande-dasile/
LOCATION:Femmes en Emploi\, 1688 boul des Laurentides\, Bureau 103\, Laval\, Québec\, H7M 2P4\, Canada
CATEGORIES:Activité
ATTACH;FMTTYPE=image/jpeg:https://femmesenemploi.org/wp-content/uploads/2026/01/FR_welcome.jpg-praida.jpg
ORGANIZER;CN="Femmes en Emploi":MAILTO:info@femmesenemploi.org
END:VEVENT
END:VCALENDAR