BEGIN:VCALENDAR
VERSION:2.0
PRODID:-//femmes en emploi - ECPv6.15.17.1//NONSGML v1.0//EN
CALSCALE:GREGORIAN
METHOD:PUBLISH
X-ORIGINAL-URL:https://femmesenemploi.org
X-WR-CALDESC:Évènements pour femmes en emploi
REFRESH-INTERVAL;VALUE=DURATION:PT1H
X-Robots-Tag:noindex
X-PUBLISHED-TTL:PT1H
BEGIN:VTIMEZONE
TZID:America/New_York
BEGIN:DAYLIGHT
TZOFFSETFROM:-0500
TZOFFSETTO:-0400
TZNAME:EDT
DTSTART:20250309T070000
END:DAYLIGHT
BEGIN:STANDARD
TZOFFSETFROM:-0400
TZOFFSETTO:-0500
TZNAME:EST
DTSTART:20251102T060000
END:STANDARD
BEGIN:DAYLIGHT
TZOFFSETFROM:-0500
TZOFFSETTO:-0400
TZNAME:EDT
DTSTART:20260308T070000
END:DAYLIGHT
BEGIN:STANDARD
TZOFFSETFROM:-0400
TZOFFSETTO:-0500
TZNAME:EST
DTSTART:20261101T060000
END:STANDARD
BEGIN:DAYLIGHT
TZOFFSETFROM:-0500
TZOFFSETTO:-0400
TZNAME:EDT
DTSTART:20270314T070000
END:DAYLIGHT
BEGIN:STANDARD
TZOFFSETFROM:-0400
TZOFFSETTO:-0500
TZNAME:EST
DTSTART:20271107T060000
END:STANDARD
END:VTIMEZONE
BEGIN:VEVENT
DTSTART;TZID=America/New_York:20260218T093000
DTEND;TZID=America/New_York:20260218T123000
DTSTAMP:20260423T144008
CREATED:20260204T155740Z
LAST-MODIFIED:20260210T194918Z
UID:5172-1771407000-1771417800@femmesenemploi.org
SUMMARY:Mois de l'Histoire des Noirs
DESCRIPTION:Voix Multiples\nNous vous invitons chaleureusement à participer à Voix Multiples\, une activité interculturelle placée sous le signe du dialogue\, du partage et de la découverte. Cette rencontre proposera une projection de documentaire\, une performance culturelle ainsi qu’une table ronde intergénérationnelle\, favorisant les échanges entre les générations ainsi que différentes cultures.\nCet événement se veut un espace convivial pour se rassembler\, apprendre les uns des autres et célébrer la diversité qui enrichit notre communauté de jour en jour.\n\n\nL’inscription est requise et se fait facilement via le lien d’inscription qui suit.\nhttps://forms.gle/3WJkdGhCMFiJNSQt9\n\n\nNous avons hâte de vous y retrouver pour vivre ensemble un moment inspirant et rassembleur.
URL:https://femmesenemploi.org/calendrier/voix-multiples/
LOCATION:Centre CommunautairVal Martin\, 3700\,boul Notre Dame\, laval\, QC\, H7V 1R4\, Canada
CATEGORIES:Activité
ATTACH;FMTTYPE=image/jpeg:https://femmesenemploi.org/wp-content/uploads/2026/02/voix-multiples-affiche-e1770222203981.jpg
ORGANIZER;CN="Femmes en Emploi":MAILTO:info@femmesenemploi.org
END:VEVENT
END:VCALENDAR